Package: GOstats Version: 2.73.0 Command: /Library/Frameworks/R.framework/Resources/bin/R CMD INSTALL GOstats StartedAt: 2025-02-03 15:55:26 -0500 (Mon, 03 Feb 2025) EndedAt: 2025-02-03 15:55:35 -0500 (Mon, 03 Feb 2025) EllapsedTime: 8.7 seconds RetCode: 0 Status: OK