Package: GOstats Version: 2.73.0 Command: /Library/Frameworks/R.framework/Resources/bin/R CMD check --install=check:GOstats.install-out.txt --library=/Library/Frameworks/R.framework/Resources/library --no-vignettes --timings GOstats_2.73.0.tar.gz StartedAt: 2025-02-05 19:37:41 -0500 (Wed, 05 Feb 2025) EndedAt: 2025-02-05 19:39:14 -0500 (Wed, 05 Feb 2025) EllapsedTime: 93.2 seconds RetCode: 0 Status: OK CheckDir: GOstats.Rcheck Warnings: 0