Package: GOstats Version: 2.75.0 Command: /Library/Frameworks/R.framework/Resources/bin/R CMD build --keep-empty-dirs --no-resave-data GOstats StartedAt: 2025-04-29 16:30:27 -0400 (Tue, 29 Apr 2025) EndedAt: 2025-04-29 16:35:37 -0400 (Tue, 29 Apr 2025) EllapsedTime: 309.4 seconds RetCode: 0 Status: OK PackageFile: GOstats_2.75.0.tar.gz PackageFileSize: 2.895 MiB