Package: GOstats Version: 2.73.0 Command: rm -rf GOstats.buildbin-libdir && mkdir GOstats.buildbin-libdir && /Users/biocbuild/BBS/utils/build-universal.sh GOstats_2.73.0.tar.gz /Library/Frameworks/R.framework/Resources/bin/R GOstats.buildbin-libdir StartedAt: 2025-02-03 22:52:23 -0500 (Mon, 03 Feb 2025) EndedAt: 2025-02-03 22:52:34 -0500 (Mon, 03 Feb 2025) EllapsedTime: 10.2 seconds RetCode: 0 Status: OK PackageFile: GOstats_2.73.0.tgz PackageFileSize: 1.889 MiB