Package: GOfuncR Version: 1.29.0 Command: /home/biocbuild/bbs-3.22-bioc/R/bin/R CMD build --keep-empty-dirs --no-resave-data --md5 GOfuncR StartedAt: 2025-10-02 17:55:34 -0400 (Thu, 02 Oct 2025) EndedAt: 2025-10-02 17:59:19 -0400 (Thu, 02 Oct 2025) EllapsedTime: 225.2 seconds RetCode: 0 Status: OK PackageFile: GOfuncR_1.29.0.tar.gz PackageFileSize: 5.195 MiB