Package: GOexpress Version: 1.43.1 Command: /home/biocbuild/bbs-3.22-bioc/R/bin/R CMD INSTALL GOexpress StartedAt: 2025-10-12 15:25:51 -0400 (Sun, 12 Oct 2025) EndedAt: 2025-10-12 15:26:09 -0400 (Sun, 12 Oct 2025) EllapsedTime: 18.2 seconds RetCode: 0 Status: OK