Package: GOexpress Version: 1.43.1 Command: /home/biocbuild/bbs-3.22-bioc/R/bin/R CMD build --keep-empty-dirs --no-resave-data --md5 GOexpress StartedAt: 2025-10-12 17:52:47 -0400 (Sun, 12 Oct 2025) EndedAt: 2025-10-12 17:53:27 -0400 (Sun, 12 Oct 2025) EllapsedTime: 40.0 seconds RetCode: 0 Status: OK PackageFile: GOexpress_1.43.1.tar.gz PackageFileSize: 2.347 MiB