Package: GOexpress Version: 1.43.0 Maintainer: Kevin Rue-Albrecht MaintainerEmail: kevinrue67 at gmail.com git_url: https://git.bioconductor.org/packages/GOexpress git_branch: devel git_last_commit: c0da81c git_last_commit_date: 2025-04-15 10:34:11 -0400 (Tue, 15 Apr 2025)