Package: GOTHiC Version: 1.45.1 Command: chmod a+r GOTHiC -R && F:\biocbuild\bbs-3.22-bioc\R\bin\R.exe CMD build --keep-empty-dirs --no-resave-data GOTHiC StartedAt: 2025-08-14 20:37:03 -0400 (Thu, 14 Aug 2025) EndedAt: 2025-08-14 20:37:55 -0400 (Thu, 14 Aug 2025) EllapsedTime: 52.0 seconds RetCode: 0 Status: OK PackageFile: GOTHiC_1.45.1.tar.gz PackageFileSize: 1.57 MiB