Package: GOTHiC Version: 1.45.1 Command: rm -rf GOTHiC.buildbin-libdir && mkdir GOTHiC.buildbin-libdir && F:\biocbuild\bbs-3.22-bioc\R\bin\R.exe CMD INSTALL --build --library=GOTHiC.buildbin-libdir GOTHiC_1.45.1.tar.gz StartedAt: 2025-08-15 10:25:10 -0400 (Fri, 15 Aug 2025) EndedAt: 2025-08-15 10:25:56 -0400 (Fri, 15 Aug 2025) EllapsedTime: 46.0 seconds RetCode: 0 Status: OK PackageFile: GOTHiC_1.45.1.zip PackageFileSize: 1.636 MiB