Package: GOSemSim Version: 2.35.1 Command: rm -rf GOSemSim.buildbin-libdir && mkdir GOSemSim.buildbin-libdir && F:\biocbuild\bbs-3.22-bioc\R\bin\R.exe CMD INSTALL --build --library=GOSemSim.buildbin-libdir GOSemSim_2.35.1.tar.gz StartedAt: 2025-08-15 10:24:49 -0400 (Fri, 15 Aug 2025) EndedAt: 2025-08-15 10:25:34 -0400 (Fri, 15 Aug 2025) EllapsedTime: 44.1 seconds RetCode: 0 Status: OK PackageFile: GOSemSim_2.35.1.zip PackageFileSize: 1.464 MiB