Package: GOSemSim Version: 2.35.0 Maintainer: Guangchuang Yu MaintainerEmail: guangchuangyu at gmail.com git_url: https://git.bioconductor.org/packages/GOSemSim git_branch: devel git_last_commit: 7e6ba96 git_last_commit_date: 2025-04-15 09:43:50 -0400 (Tue, 15 Apr 2025)