Package: GNOSIS Version: 1.5.0 Command: /Library/Frameworks/R.framework/Resources/bin/R CMD check --install=check:GNOSIS.install-out.txt --library=/Library/Frameworks/R.framework/Resources/library --no-vignettes --timings GNOSIS_1.5.0.tar.gz StartedAt: 2025-02-03 20:06:48 -0500 (Mon, 03 Feb 2025) EndedAt: 2025-02-03 20:09:06 -0500 (Mon, 03 Feb 2025) EllapsedTime: 137.6 seconds RetCode: 0 Status: WARNINGS CheckDir: GNOSIS.Rcheck Warnings: 1