Package: GMRP Version: 1.37.0 Command: /home/biocbuild/bbs-3.22-bioc/R/bin/R CMD build --keep-empty-dirs --no-resave-data --md5 GMRP StartedAt: 2025-10-10 18:05:37 -0400 (Fri, 10 Oct 2025) EndedAt: 2025-10-10 18:05:55 -0400 (Fri, 10 Oct 2025) EllapsedTime: 18.0 seconds RetCode: 0 Status: OK PackageFile: GMRP_1.37.0.tar.gz PackageFileSize: 898.6 KiB