Package: GMRP Version: 1.37.0 Command: /Library/Frameworks/R.framework/Resources/bin/R CMD INSTALL GMRP StartedAt: 2025-05-01 15:15:25 -0400 (Thu, 01 May 2025) EndedAt: 2025-05-01 15:15:42 -0400 (Thu, 01 May 2025) EllapsedTime: 16.5 seconds RetCode: 0 Status: OK