Package: GMRP Version: 1.37.0 Command: /Library/Frameworks/R.framework/Resources/bin/R CMD build --keep-empty-dirs --no-resave-data GMRP StartedAt: 2025-05-05 16:59:09 -0400 (Mon, 05 May 2025) EndedAt: 2025-05-05 16:59:19 -0400 (Mon, 05 May 2025) EllapsedTime: 10.1 seconds RetCode: 0 Status: OK PackageFile: GMRP_1.37.0.tar.gz PackageFileSize: 897.4 KiB