Package: GLAD Version: 2.73.0 Command: rm -rf GLAD.buildbin-libdir && mkdir GLAD.buildbin-libdir && /Users/biocbuild/BBS/utils/build-universal.sh GLAD_2.73.0.tar.gz /Library/Frameworks/R.framework/Resources/bin/R GLAD.buildbin-libdir StartedAt: 2025-10-26 22:37:25 -0400 (Sun, 26 Oct 2025) EndedAt: 2025-10-26 22:37:32 -0400 (Sun, 26 Oct 2025) EllapsedTime: 7.1 seconds RetCode: 0 Status: OK PackageFile: GLAD_2.73.0.tgz PackageFileSize: 1.456 MiB