Package: GIGSEA Version: 1.27.0 Command: /home/biocbuild/bbs-3.22-bioc/R/bin/R CMD INSTALL GIGSEA StartedAt: 2025-10-09 15:07:25 -0400 (Thu, 09 Oct 2025) EndedAt: 2025-10-09 15:07:31 -0400 (Thu, 09 Oct 2025) EllapsedTime: 5.7 seconds RetCode: 0 Status: OK