Package: GIGSEA Version: 1.27.0 Command: /home/biocbuild/bbs-3.22-bioc/R/bin/R CMD build --keep-empty-dirs --no-resave-data --md5 GIGSEA StartedAt: 2025-10-09 17:55:55 -0400 (Thu, 09 Oct 2025) EndedAt: 2025-10-09 17:59:30 -0400 (Thu, 09 Oct 2025) EllapsedTime: 215.2 seconds RetCode: 0 Status: OK PackageFile: GIGSEA_1.27.0.tar.gz PackageFileSize: 1.327 MiB