Package: GIGSEA Version: 1.25.0 Command: /Library/Frameworks/R.framework/Resources/bin/R CMD check --install=check:GIGSEA.install-out.txt --library=/Library/Frameworks/R.framework/Resources/library --no-vignettes --timings GIGSEA_1.25.0.tar.gz StartedAt: 2025-02-16 20:40:35 -0500 (Sun, 16 Feb 2025) EndedAt: 2025-02-16 20:41:57 -0500 (Sun, 16 Feb 2025) EllapsedTime: 82.4 seconds RetCode: 0 Status: OK CheckDir: GIGSEA.Rcheck Warnings: 0