Package: GGPA Version: 1.19.0 Command: E:\biocbuild\bbs-3.21-bioc\R\bin\R.exe CMD check --no-multiarch --install=check:GGPA.install-out.txt --library=E:\biocbuild\bbs-3.21-bioc\R\library --no-vignettes --timings GGPA_1.19.0.tar.gz StartedAt: 2025-01-11 01:35:12 -0500 (Sat, 11 Jan 2025) EndedAt: 2025-01-11 01:40:50 -0500 (Sat, 11 Jan 2025) EllapsedTime: 338.2 seconds RetCode: 0 Status: OK CheckDir: GGPA.Rcheck Warnings: 0