Package: GEWIST Version: 1.53.0 Command: chmod a+r GEWIST -R && F:\biocbuild\bbs-3.22-bioc\R\bin\R.exe CMD build --keep-empty-dirs --no-resave-data GEWIST StartedAt: 2025-08-14 20:30:24 -0400 (Thu, 14 Aug 2025) EndedAt: 2025-08-14 20:32:45 -0400 (Thu, 14 Aug 2025) EllapsedTime: 141.0 seconds RetCode: 0 Status: OK PackageFile: GEWIST_1.53.0.tar.gz PackageFileSize: 266.3 KiB