Package: GEWIST Version: 1.53.0 Command: rm -rf GEWIST.buildbin-libdir && mkdir GEWIST.buildbin-libdir && F:\biocbuild\bbs-3.22-bioc\R\bin\R.exe CMD INSTALL --build --library=GEWIST.buildbin-libdir GEWIST_1.53.0.tar.gz StartedAt: 2025-08-15 10:22:54 -0400 (Fri, 15 Aug 2025) EndedAt: 2025-08-15 10:22:59 -0400 (Fri, 15 Aug 2025) EllapsedTime: 4.6 seconds RetCode: 0 Status: OK PackageFile: GEWIST_1.53.0.zip PackageFileSize: 293.2 KiB