Package: GEWIST Version: 1.51.0 Command: /Library/Frameworks/R.framework/Resources/bin/R CMD build --keep-empty-dirs --no-resave-data GEWIST StartedAt: 2025-02-16 16:46:21 -0500 (Sun, 16 Feb 2025) EndedAt: 2025-02-16 16:48:14 -0500 (Sun, 16 Feb 2025) EllapsedTime: 113.7 seconds RetCode: 0 Status: OK PackageFile: GEWIST_1.51.0.tar.gz PackageFileSize: 388 KiB