Package: GEWIST Version: 1.51.0 Command: /Library/Frameworks/R.framework/Resources/bin/R CMD check --install=check:GEWIST.install-out.txt --library=/Library/Frameworks/R.framework/Resources/library --no-vignettes --timings GEWIST_1.51.0.tar.gz StartedAt: 2025-02-05 19:32:34 -0500 (Wed, 05 Feb 2025) EndedAt: 2025-02-05 19:32:56 -0500 (Wed, 05 Feb 2025) EllapsedTime: 21.2 seconds RetCode: 0 Status: OK CheckDir: GEWIST.Rcheck Warnings: 0