Package: GEOsubmission Version: 1.61.0 Command: /home/biocbuild/bbs-3.22-bioc/R/bin/R CMD INSTALL GEOsubmission StartedAt: 2025-07-18 15:11:16 -0400 (Fri, 18 Jul 2025) EndedAt: 2025-07-18 15:11:19 -0400 (Fri, 18 Jul 2025) EllapsedTime: 3.5 seconds RetCode: 0 Status: OK