Package: GEOsubmission Version: 1.61.0 Command: /home/biocbuild/bbs-3.22-bioc/R/bin/R CMD build --keep-empty-dirs --no-resave-data --md5 GEOsubmission StartedAt: 2025-07-18 17:21:53 -0400 (Fri, 18 Jul 2025) EndedAt: 2025-07-18 17:22:00 -0400 (Fri, 18 Jul 2025) EllapsedTime: 7.0 seconds RetCode: 0 Status: OK PackageFile: GEOsubmission_1.61.0.tar.gz PackageFileSize: 193 KiB