Package: GEOquery Version: 2.75.0 Command: rm -rf GEOquery.buildbin-libdir && mkdir GEOquery.buildbin-libdir && E:\biocbuild\bbs-3.21-bioc\R\bin\R.exe CMD INSTALL --build --library=GEOquery.buildbin-libdir GEOquery_2.75.0.tar.gz StartedAt: 2025-02-17 07:37:19 -0500 (Mon, 17 Feb 2025) EndedAt: 2025-02-17 07:38:09 -0500 (Mon, 17 Feb 2025) EllapsedTime: 50.4 seconds RetCode: 0 Status: OK PackageFile: GEOquery_2.75.0.zip PackageFileSize: 13.37 MiB