Package: GEOquery Version: 2.75.0 Command: /home/biocbuild/bbs-3.21-bioc/R/bin/R CMD INSTALL GEOquery StartedAt: 2025-02-16 15:37:26 -0500 (Sun, 16 Feb 2025) EndedAt: 2025-02-16 15:37:50 -0500 (Sun, 16 Feb 2025) EllapsedTime: 23.9 seconds RetCode: 0 Status: OK