Package: GEOquery Version: 2.75.0 Command: /home/biocbuild/bbs-3.21-bioc/R/bin/R CMD build --keep-empty-dirs --no-resave-data GEOquery StartedAt: 2025-02-16 17:22:32 -0500 (Sun, 16 Feb 2025) EndedAt: 2025-02-16 17:23:28 -0500 (Sun, 16 Feb 2025) EllapsedTime: 55.0 seconds RetCode: 0 Status: OK PackageFile: GEOquery_2.75.0.tar.gz PackageFileSize: 13.07 MiB