Package: GEOquery Version: 2.75.0 Command: /Library/Frameworks/R.framework/Resources/bin/R CMD INSTALL GEOquery StartedAt: 2025-02-16 15:10:00 -0500 (Sun, 16 Feb 2025) EndedAt: 2025-02-16 15:10:35 -0500 (Sun, 16 Feb 2025) EllapsedTime: 35.0 seconds RetCode: 0 Status: OK