Package: GEOquery Version: 2.75.0 Command: /Library/Frameworks/R.framework/Resources/bin/R CMD check --install=check:GEOquery.install-out.txt --library=/Library/Frameworks/R.framework/Resources/library --no-vignettes --timings GEOquery_2.75.0.tar.gz StartedAt: 2025-02-20 19:29:12 -0500 (Thu, 20 Feb 2025) EndedAt: 2025-02-20 19:31:52 -0500 (Thu, 20 Feb 2025) EllapsedTime: 159.8 seconds RetCode: 0 Status: OK CheckDir: GEOquery.Rcheck Warnings: 0