Package: GEOquery Version: 2.75.0 Command: rm -rf GEOquery.buildbin-libdir && mkdir GEOquery.buildbin-libdir && /Users/biocbuild/BBS/utils/build-universal.sh GEOquery_2.75.0.tar.gz /Library/Frameworks/R.framework/Resources/bin/R GEOquery.buildbin-libdir StartedAt: 2025-02-20 22:20:29 -0500 (Thu, 20 Feb 2025) EndedAt: 2025-02-20 22:20:41 -0500 (Thu, 20 Feb 2025) EllapsedTime: 12.2 seconds RetCode: 0 Status: OK PackageFile: GEOquery_2.75.0.tgz PackageFileSize: 13.37 MiB