Package: GEOmetadb Version: 1.71.0 Command: chmod a+r GEOmetadb -R && F:\biocbuild\bbs-3.22-bioc\R\bin\R.exe CMD build --keep-empty-dirs --no-resave-data GEOmetadb StartedAt: 2025-08-14 20:29:10 -0400 (Thu, 14 Aug 2025) EndedAt: 2025-08-14 20:29:48 -0400 (Thu, 14 Aug 2025) EllapsedTime: 37.8 seconds RetCode: 0 Status: OK PackageFile: GEOmetadb_1.71.0.tar.gz PackageFileSize: 20.34 MiB