Package: GEOmetadb Version: 1.71.0 Command: /home/biocbuild/bbs-3.22-bioc/R/bin/R CMD INSTALL GEOmetadb StartedAt: 2025-09-29 15:03:34 -0400 (Mon, 29 Sep 2025) EndedAt: 2025-09-29 15:03:48 -0400 (Mon, 29 Sep 2025) EllapsedTime: 13.6 seconds RetCode: 0 Status: OK