Package: GEOmetadb Version: 1.69.2 Command: /Library/Frameworks/R.framework/Resources/bin/R CMD build --keep-empty-dirs --no-resave-data GEOmetadb StartedAt: 2025-02-03 17:03:12 -0500 (Mon, 03 Feb 2025) EndedAt: 2025-02-03 17:03:23 -0500 (Mon, 03 Feb 2025) EllapsedTime: 11.1 seconds RetCode: 0 Status: OK PackageFile: GEOmetadb_1.69.2.tar.gz PackageFileSize: 625.8 KiB