Package: GEOmetadb Version: 1.71.0 Command: rm -rf GEOmetadb.buildbin-libdir && mkdir GEOmetadb.buildbin-libdir && /Users/biocbuild/BBS/utils/build-universal.sh GEOmetadb_1.71.0.tar.gz /Library/Frameworks/R.framework/Resources/bin/R GEOmetadb.buildbin-libdir StartedAt: 2025-05-01 22:36:19 -0400 (Thu, 01 May 2025) EndedAt: 2025-05-01 22:36:21 -0400 (Thu, 01 May 2025) EllapsedTime: 2.1 seconds RetCode: 0 Status: OK PackageFile: GEOmetadb_1.71.0.tgz PackageFileSize: 530.4 KiB