Package: GEOfastq Version: 1.17.0 Command: rm -rf GEOfastq.buildbin-libdir && mkdir GEOfastq.buildbin-libdir && F:\biocbuild\bbs-3.22-bioc\R\bin\R.exe CMD INSTALL --build --library=GEOfastq.buildbin-libdir GEOfastq_1.17.0.tar.gz StartedAt: 2025-08-15 10:22:26 -0400 (Fri, 15 Aug 2025) EndedAt: 2025-08-15 10:22:35 -0400 (Fri, 15 Aug 2025) EllapsedTime: 8.6 seconds RetCode: 0 Status: OK PackageFile: GEOfastq_1.17.0.zip PackageFileSize: 41.51 KiB