Package: GEOexplorer Version: 1.15.0 Command: /home/biocbuild/R/R/bin/R CMD INSTALL GEOexplorer StartedAt: 2025-09-29 21:09:30 -0000 (Mon, 29 Sep 2025) EndedAt: 2025-09-29 21:11:17 -0000 (Mon, 29 Sep 2025) EllapsedTime: 107.1 seconds RetCode: 0 Status: OK