Package: GEOexplorer Version: 1.15.0 Command: /home/biocbuild/R/R/bin/R CMD build --keep-empty-dirs --no-resave-data GEOexplorer StartedAt: 2025-10-21 00:02:33 -0000 (Tue, 21 Oct 2025) EndedAt: 2025-10-21 00:04:04 -0000 (Tue, 21 Oct 2025) EllapsedTime: 91.0 seconds RetCode: 0 Status: OK PackageFile: GEOexplorer_1.15.0.tar.gz PackageFileSize: 11.26 MiB