############################################################################## ############################################################################## ### ### Running command: ### ### /home/biocbuild/bbs-3.21-bioc/R/bin/R CMD INSTALL GEOexplorer ### ############################################################################## ############################################################################## * installing to library ‘/home/biocbuild/bbs-3.21-bioc/R/site-library’ ERROR: dependency ‘enrichR’ is not available for package ‘GEOexplorer’ Perhaps try a variation of: install.packages('enrichR') * removing ‘/home/biocbuild/bbs-3.21-bioc/R/site-library/GEOexplorer’