Package: GEOexplorer Version: 1.13.0 Command: /home/biocbuild/bbs-3.21-bioc/R/bin/R CMD check --install=check:GEOexplorer.install-out.txt --library=/home/biocbuild/bbs-3.21-bioc/R/site-library --timings GEOexplorer_1.13.0.tar.gz StartedAt: 2025-02-05 22:43:10 -0500 (Wed, 05 Feb 2025) EndedAt: 2025-02-05 22:49:21 -0500 (Wed, 05 Feb 2025) EllapsedTime: 371.4 seconds RetCode: 0 Status: WARNINGS CheckDir: GEOexplorer.Rcheck Warnings: 1