Package: GEOexplorer Version: 1.13.0 Command: /home/biocbuild/bbs-3.21-bioc/R/bin/R CMD build --keep-empty-dirs --no-resave-data GEOexplorer StartedAt: 2025-02-05 17:23:52 -0500 (Wed, 05 Feb 2025) EndedAt: 2025-02-05 17:24:52 -0500 (Wed, 05 Feb 2025) EllapsedTime: 60.0 seconds RetCode: 0 Status: OK PackageFile: GEOexplorer_1.13.0.tar.gz PackageFileSize: 11.26 MiB