Package: GEOexplorer Version: 1.13.0 Command: /Library/Frameworks/R.framework/Resources/bin/R CMD check --install=check:GEOexplorer.install-out.txt --library=/Library/Frameworks/R.framework/Resources/library --no-vignettes --timings GEOexplorer_1.13.0.tar.gz StartedAt: 2025-02-10 21:18:10 -0500 (Mon, 10 Feb 2025) EndedAt: 2025-02-10 21:24:47 -0500 (Mon, 10 Feb 2025) EllapsedTime: 397.4 seconds RetCode: 0 Status: WARNINGS CheckDir: GEOexplorer.Rcheck Warnings: 1