############################################################################## ############################################################################## ### ### Running command: ### ### /Library/Frameworks/R.framework/Resources/bin/R CMD build --keep-empty-dirs --no-resave-data GEOexplorer ### ############################################################################## ############################################################################## * checking for file ‘GEOexplorer/DESCRIPTION’ ... OK * preparing ‘GEOexplorer’: * checking DESCRIPTION meta-information ... OK * installing the package to build vignettes ----------------------------------- ERROR: dependency ‘enrichR’ is not available for package ‘GEOexplorer’ Perhaps try a variation of: install.packages('enrichR') * removing ‘/private/tmp/Rtmpr0Iaf3/Rinst2ece28ac4fe7/GEOexplorer’ ----------------------------------- ERROR: package installation failed