Package: GEOexplorer Version: 1.13.0 Command: rm -rf GEOexplorer.buildbin-libdir && mkdir GEOexplorer.buildbin-libdir && /Users/biocbuild/BBS/utils/build-universal.sh GEOexplorer_1.13.0.tar.gz /Library/Frameworks/R.framework/Resources/bin/R GEOexplorer.buildbin-libdir StartedAt: 2025-02-11 01:09:33 -0500 (Tue, 11 Feb 2025) EndedAt: 2025-02-11 01:10:39 -0500 (Tue, 11 Feb 2025) EllapsedTime: 65.8 seconds RetCode: 0 Status: OK PackageFile: GEOexplorer_1.13.0.tgz PackageFileSize: 7.432 MiB