Package: GENIE3 Version: 1.29.0 Command: E:\biocbuild\bbs-3.21-bioc\R\bin\R.exe CMD INSTALL GENIE3 StartedAt: 2025-02-03 15:40:32 -0500 (Mon, 03 Feb 2025) EndedAt: 2025-02-03 15:40:41 -0500 (Mon, 03 Feb 2025) EllapsedTime: 9.3 seconds RetCode: 0 Status: OK