Package: GENIE3 Version: 1.29.0 Command: /home/biocbuild/bbs-3.21-bioc/R/bin/R CMD INSTALL GENIE3 StartedAt: 2025-02-03 15:18:11 -0500 (Mon, 03 Feb 2025) EndedAt: 2025-02-03 15:18:15 -0500 (Mon, 03 Feb 2025) EllapsedTime: 4.4 seconds RetCode: 0 Status: OK