Package: GENIE3 Version: 1.29.0 Command: rm -rf GENIE3.buildbin-libdir && mkdir GENIE3.buildbin-libdir && /Users/biocbuild/BBS/utils/build-universal.sh GENIE3_1.29.0.tar.gz /Library/Frameworks/R.framework/Resources/bin/R GENIE3.buildbin-libdir StartedAt: 2025-02-04 00:35:40 -0500 (Tue, 04 Feb 2025) EndedAt: 2025-02-04 00:35:49 -0500 (Tue, 04 Feb 2025) EllapsedTime: 9.2 seconds RetCode: 0 Status: OK PackageFile: GENIE3_1.29.0.tgz PackageFileSize: 264.7 KiB