Package: GENIE3 Version: 1.29.0 Command: /Library/Frameworks/R.framework/Resources/bin/R CMD check --install=check:GENIE3.install-out.txt --library=/Library/Frameworks/R.framework/Resources/library --no-vignettes --timings GENIE3_1.29.0.tar.gz StartedAt: 2025-02-03 19:58:53 -0500 (Mon, 03 Feb 2025) EndedAt: 2025-02-03 19:59:12 -0500 (Mon, 03 Feb 2025) EllapsedTime: 19.3 seconds RetCode: 0 Status: OK CheckDir: GENIE3.Rcheck Warnings: 0